Workbook
Name RUBROS: '[1]Agrupación de Rubros'!$A$7:$A$12
Name RUBROS: 'Agrupación de Rubros'!$A$5:$A$11

Sheet 0. Guía
B6: FORMATO DE FORMULACIÓN DE PROYECTOS PROGRAMA INNOVACIÓN COLABORATIVA COL-INNOVA
B9: El presente documento corresponde al formato a utilizar para la formulación para desarrollar su proyecto de innovación colaborativa en el marco de la estrategia Pactos por la Innovación, el cual podrá obtener cofinanciación de hasta $350.000.000. A continuación, se presentan unas recomendaciones que se deben tener en cuenta al momento del diligenciamiento:
B10: •La alianza debe consultar los rubros financiables y no financiables en el anexo 2 de los Términos de Referencia de la invitación.
B11: •La alianza debe revisar las definiciones de cada campo de este formato en el anexo 4. de los Términos de Referencia de la invitación.
B12: • La alianza debe incluir dentro del presupuesto todas las actividades a desarrollar, aún cuando no tengan recursos económicos asociados. (Incluirlas con valor cero).
B13: • La alianza deberá aportar al desarrollo del proyecto un valor de contrapartida de mínimo el 30% sobre el valor total de cofinanciación: distribuida en especie y efectivo así: 70% en especie y 30% en efectivo.
B14: • No se financian actividades ejecutadas fuera del plazo establecido para la ejecución del proyecto (máximo 7 meses contados desde la fecha de incio del contrato con la Cámara de Comercio).
B15: • La alianza debe describir los detalles de cada rubro según sus características técnicas, incluyendo unidades, cantidades y las demás especificaciones que se consideren necesarias.
B16: • Los valores establecidos en los rubros deben incluir IVA y todos los impuestos y contribuciones a que hubiera lugar. De igual forma, deben corresponder a valores de mercado para lo cual requieren realizar internamente las cotizaciones que correspondan.
B17: • Para el adecuado uso y diligenciamiento del formato, se permiten agregar filas para las actividades y rubros. Con respecto al espacio dispuesto para las etapas podrá usar las etapas que considere necesarias, las que no vaya a usar, no las elimine sólo debe dejarlas en blanco, tal y como se presenta inicialmente este formato.
B18: • En la pestaña 4. plan de trabajo y presupuesto, en la parte inferior se deben indicar los resultados y productos esperados al final del proyecto.

Sheet 1. Información general proyecto
A6: 1. INFORMACIÓN GENERAL DEL PROYECTO
A7: Nombres de los integrantes de la alianza
A8: Nombre del proyecto
A9: Definición del tipo de innovación
A10: Nivel de madurez tecnológica
A11: Cadena estratégica de valor | B11: Cadenas Globales de valor: XXXXX
A12: Resumen Ejecutivo (máximo 300 palabras)
A13: Monto solicitado | B13: 350000000
A14: Valor de contrapartida (en efectivo y especie) | B14: =+B13*30% -> 105000000
A15: Duración del proyecto (meses)
A16: Lugar de ejecución del proyecto

Sheet 2. Contenido técnico
A6: 2. CONTENIDO TÉCNICO DEL PROYECTO
A7: Planteamiento del problema, necesidad u oportunidad
A8: Descripción de la solución innovadora
A9: Orientación al mercado
A10: Objetivo General del Proyecto
A11: Objetivos Específicos del Proyecto
A12: Impactos esperados | B12: • Impacto del proyecto en la cadena de valor:
B13: • Aporte del proyecto a los miembros de la alianza:
B14: • Indicadores y metas del impacto esperado:

Sheet 3. Colaboración
A6: 3. ESTRUCTURA DE COLABORACIÓN DEL PROYECTO
A7: Justificación de la colaboración
A8: Resumen del esquema de gobernanza
A9: Distribución de responsabilidades y equipo de trabajo
A10: 1. Nombre de la empresa líder de la alianza: Rol: | B10: Responsabilidades y compromisos: - - - (…) Equipo de trabajo: Nombre de la persona 1: - Resumen de su formación y experiencia Nombre de la persona 2: - Resumen de su formación y experiencia (…)
A11: 2. Nombre de la mipyme de la alianza: Rol: | B11: Responsabilidades y compromisos: - - - (…) Equipo de trabajo: Nombre de la persona 1: - Resumen de su formación y experiencia Nombre de la persona 2: - Resumen de su formación y experiencia (…)
A12: 3. Nombre de la mipyme de la alianza: Rol: | B12: Responsabilidades y compromisos: - - - (…) Equipo de trabajo: Nombre de la persona 1: - Resumen de su formación y experiencia Nombre de la persona 2: - Resumen de su formación y experiencia (…)
A13: 4. Nombre del aliado técnico de la alianza: Rol: | B13: Responsabilidades y compromisos: - - - (…) Equipo de trabajo: Nombre de la persona 1: - Resumen de su formación y experiencia Nombre de la persona 2: - Resumen de su formación y experiencia (…)
A14: Aspectos de propiedad intelectual

Sheet 4. Plan trabajo y presupuesto
A2: 4. ESTRUCTURA DE PLAN DE TRABAJO Y PRESUPUESTO
A3: ACTIVIDADES Y RUBROS | B3: ACTIVIDADES, RESULTADOS Y RUBROS | G3: PRECIOS UNITARIOS | H3: PRECIOS UNITARIOS | L3: FINANCIACIÓN PROYECTO | M3: FINANCIACIÓN PROYECTO | P3: CRONOGRAMA | Q3: CRONOGRAMA
B4: N° ACTIVIDAD- RESULTADO | C4: NOMBRE DE LA ACTIVIDAD | D4: DESCRIPCIÓN DE ACTIVIDAD (Describa la actividad que va a desarrollar y cómo su ejecución es indispensable para el desarrollo del proyecto. Se debe justificar técnicamente cada una de las actividades) | E4: TIPO DE RUBRO (Seleccione el rubro en el cual debe hacer la inversión económica para lograr la ejecución de la actividad) | F4: DESCRIPCIÓN DE RUBRO (Desglose el detalle del rubro seleccionado y realice una descripción del mismo) | H4: UNIDAD | I4: VALOR UNITARIO DEL RUBRO | J4: CANTIDAD REQUERIDA | K4: TOTAL (CANTIDAD POR VALOR UNITARIO) | M4: RECURSOS DE CO-FINANCIACIÓN | N4: CONTRAPARTIDA EN EFECTIVO DE LA ALIANZA | O4: CONTRAPARTIDA EN ESPECIE DE LA ALIANZA | Q4: INICIA (# Semana) | R4: TERMINA (# Semana) | S4: Total Duración (semanas) | T4: Mes 1 | X4: Mes 2 | AB4: Mes 3 | AF4: Mes 4 | AJ4: Mes 5 | AN4: Mes 6 | AR4: Mes 7
T5: 1 | U5: 2 | V5: 3 | W5: 4 | X5: 5 | Y5: 6 | Z5: 7 | AA5: 8 | AB5: 9 | AC5: 10 | AD5: 11 | AE5: 12 | AF5: 13 | AG5: 14 | AH5: 15 | AI5: 16 | AJ5: 17 | AK5: 18 | AL5: 19 | AM5: 20 | AN5: 21 | AO5: 22 | AP5: 23 | AQ5: 24 | AR5: 25 | AS5: 26 | AT5: 27 | AU5: 28
B6: ETAPA 1 | C6: ESCRIBIR NOMBRE DE LA ETAPA | K6: =+SUM(K7:K12) -> 28000000 | M6: =SUM(M7:M12) -> 17000000 | N6: =SUM(N7:N12) -> 8000000 | O6: =SUM(O7:O12) -> 3000000 | Q6: 1 | R6: 7 | S6: =+R6-Q6+1 -> 7
B7: 1.1 | C7: Ejemplo: Diseño de la red, documentación y elaboración de diagramas. | D7: Se realizará un diseño a detalle de la red utilizando un software del proveedor, elaboración de diagramas así mismo se instalarán terminales de características XXX, por que es necesario para XX, finalmente se realizará la documentación. | E7: Personal científico y tecnológico | F7: Ejemplo: Ingeniero electrónico con Especialización en Instrumentación Electrónica para el análisis, diseño e implementación de sistemas de telecomunicaciones, con tres años de experiencia. | H7: Ejemplo: Mes / persona | I7: 5000000 | J7: 1 | K7: =+I7*J7 -> 5000000 | M7: 5000000 | N7: 0 | O7: 0 | Q7: 1 | R7: 3 | S7: =+R7-Q7+1 -> 3
E8: Materiales e Insumos | F8: Ejemplo: Terminal para puerto serial Siemens modelo AB3245 | H8: Ejemplo: Unidad | I8: 800000 | J8: 10 | K8: =+I8*J8 -> 8000000 | M8: 6000000 | N8: 2000000 | O8: 0 | Q8: 3 | R8: 4 | S8: =+R8-Q8+1 -> 2
E9: Servicios tecnológicos | F9: Ejemplo: Empresa externa con experiencia en automatización para realizar pruebas de interconectividad Beta | H9: Ejemplo: Global | I9: 12000000 | J9: 1 | K9: =+I9*J9 -> 12000000 | M9: 6000000 | N9: 6000000 | O9: 0 | Q9: 3 | R9: 7 | S9: =+R9-Q9+1 -> 5
B10: 1.2 | C10: Ejemplo: Servidor de alojamiento del progama de automatizado | D10: Ejemplo: Servidor de alojamiento del progama de automatizado | E10: Tecnologías de información y telecomunicaciones | F10: Ejemplo: uso del servidor de la empresa para proceso de desarrollo del proyecto. | H10: N/A | I10: 3000000 | J10: 1 | K10: =+I10*J10 -> 3000000 | M10: 0 | N10: 0 | O10: 3000000
B11: ,,, | K11: =+I11*J11 -> 0
B12: ,,, | K12: =+I12*J12 -> 0
B13: Resultados, productos esperados o entregables de la etapa 1: Escribir aquí
B14: ETAPA 2 | C14: ESCRIBIR NOMBRE DE LA ETAPA | K14: =+SUM(K15:K21) -> 0 | M14: =SUM(M15:M21) -> 0 | N14: =SUM(N15:N21) -> 0 | O14: =SUM(O15:O21) -> 0
B15: 2.1 | K15: =I15*J15 -> 0
B16: 2.2 | K16: =I16*J16 -> 0
B17: ,,, | K17: =I17*J17 -> 0
B18: ,,, | K18: =I18*J18 -> 0
K19: =I19*J19 -> 0
K20: =I20*J20 -> 0
K21: =I21*J21 -> 0
B22: Resultados, productos esperados o entregables de etapa 2: Escribir aquí
B23: ETAPA 3 | C23: ESCRIBIR NOMBRE DE LA ETAPA | K23: =+SUM(K24:K30) -> 0 | M23: =SUM(M24:M30) -> 0 | N23: =SUM(N24:N30) -> 0 | O23: =SUM(O24:O30) -> 0
K24: =I24*J24 -> 0
K25: =I25*J25 -> 0
K26: =I26*J26 -> 0
K27: =I27*J27 -> 0
K28: =I28*J28 -> 0
K29: =I29*J29 -> 0
K30: =I30*J30 -> 0
B31: Resultados, productos esperados o entregables de etapa 3: Escribir aquí
B32: ETAPA 4 | C32: ESCRIBIR NOMBRE DE LA ETAPA | K32: =+SUM(K33:K39) -> 0 | M32: =SUM(M33:M39) -> 0 | N32: =SUM(N33:N39) -> 0 | O32: =SUM(O33:O39) -> 0
K33: =I33*J33 -> 0
K34: =I34*J34 -> 0
K35: =I35*J35 -> 0
K36: =I36*J36 -> 0
K37: =I37*J37 -> 0
K38: =I38*J38 -> 0
K39: =I39*J39 -> 0
B40: Resultados, productos esperados o entregables de etapa 4: Escribir aquí
B41: ETAPA 5 | C41: ESCRIBIR NOMBRE DE LA ETAPA | K41: =+SUM(K42:K48) -> 0 | M41: =SUM(M42:M48) -> 0 | N41: =SUM(N42:N48) -> 0 | O41: =SUM(O42:O48) -> 0
...

Sheet Agrupación de Rubros
A1: Esta tabla se diligencia automáticamente con la información de la pestaña 4. Plan de trabajo y presupuesto
A3: RESUMEN AGRUPACIÓN DE RUBROS
A4: RUBROS | B4: RECURSOS DE FINANCIACIÓN | C4: % Participación
A5: Personal científico y tecnológico | B5: =SUMIF('4. Plan trabajo y presupuesto'!$E$7:$E$93,'Agrupación de Rubros'!A5,'4. Plan trabajo y presupuesto'!$K$7:$K$93) -> 5000000 | C5: =+B5/$B$18 -> 0.17857143
A6: Personal de Apoyo | B6: =SUMIF('4. Plan trabajo y presupuesto'!$E$7:$E$93,'Agrupación de Rubros'!A6,'4. Plan trabajo y presupuesto'!$K$7:$K$93) -> 0 | C6: =+B6/$B$18 -> 0
A7: Materiales e Insumos | B7: =SUMIF('4. Plan trabajo y presupuesto'!$E$7:$E$93,'Agrupación de Rubros'!A7,'4. Plan trabajo y presupuesto'!$K$7:$K$93) -> 8000000 | C7: =+B7/$B$18 -> 0.28571429
A8: Maquinaria y equipo | B8: =SUMIF('4. Plan trabajo y presupuesto'!$E$7:$E$93,'Agrupación de Rubros'!A8,'4. Plan trabajo y presupuesto'!$K$7:$K$93) -> 0 | C8: =+B8/$B$18 -> 0
A9: Transferencia de tecnología | B9: =SUMIF('4. Plan trabajo y presupuesto'!$E$7:$E$93,'Agrupación de Rubros'!A9,'4. Plan trabajo y presupuesto'!$K$7:$K$93) -> 0 | C9: =+B9/$B$18 -> 0
A10: Servicios tecnológicos | B10: =SUMIF('4. Plan trabajo y presupuesto'!$E$7:$E$93,'Agrupación de Rubros'!A10,'4. Plan trabajo y presupuesto'!$K$7:$K$93) -> 12000000 | C10: =+B10/$B$18 -> 0.42857143
A11: Tecnologías de información y telecomunicaciones | B11: =SUMIF('4. Plan trabajo y presupuesto'!$E$7:$E$93,'Agrupación de Rubros'!A11,'4. Plan trabajo y presupuesto'!$K$7:$K$93) -> 3000000 | C11: =+B11/$B$18 -> 0.10714286
A12: Gastos de propiedad intelectual | B12: =SUMIF('4. Plan trabajo y presupuesto'!$E$7:$E$93,'Agrupación de Rubros'!A12,'4. Plan trabajo y presupuesto'!$K$7:$K$93) -> 0 | C12: =+B12/$B$18 -> 0
A13: Asesorías especializadas | B13: =SUMIF('4. Plan trabajo y presupuesto'!$E$7:$E$93,'Agrupación de Rubros'!A13,'4. Plan trabajo y presupuesto'!$K$7:$K$93) -> 0 | C13: =+B13/$B$18 -> 0
A14: Validación pre-comercial o comercial del prototipo | B14: =SUMIF('4. Plan trabajo y presupuesto'!$E$7:$E$93,'Agrupación de Rubros'!A14,'4. Plan trabajo y presupuesto'!$K$7:$K$93) -> 0 | C14: =+B14/$B$18 -> 0
A15: Gastos de Viaje | B15: =SUMIF('4. Plan trabajo y presupuesto'!$E$7:$E$93,'Agrupación de Rubros'!A15,'4. Plan trabajo y presupuesto'!$K$7:$K$93) -> 0 | C15: =+B15/$B$18 -> 0
A16: Gastos Administrativos | B16: =SUMIF('4. Plan trabajo y presupuesto'!$E$7:$E$93,'Agrupación de Rubros'!A16,'4. Plan trabajo y presupuesto'!$K$7:$K$93) -> 0 | C16: =+B16/$B$18 -> 0
A17: No clasificado | B17: =SUMIF('4. Plan trabajo y presupuesto'!$E$7:$E$93,'Agrupación de Rubros'!A17,'4. Plan trabajo y presupuesto'!$K$7:$K$93) -> 0 | C17: =+B17/$B$18 -> 0
A18: TOTAL | B18: =SUM(B5:B15) -> 28000000
A20: *Nota: No necesariamente las alianzas deberán incluir la totalidad de los rubros listados previamente, dentro del presupuesto del proyecto.

Sheet Control Cambios
A1: Gestión de cambios
A2: Relacionar los cambios sugeridos en el formato
A3: Fecha | B3: Cámara | C3: Nombre | D3: Cambio a realizar | E3: Hoja | F3: Celda

Sheet Listas desplegables
A1: Listas Desplegables
A2: TRL | B2: TRL 6: Demostración/validación de sistema, subsistema, modelo o prototipo en un ambiente con condiciones relevantes cercanas a las condiciones reales/operativas
B3: TRL 7: Demostración de Sistema o prototipo completo demostrado en ambiente operacional
B4: TRL 8: Sistema completo y certificado a través de pruebas y demostraciones en ambientes operacionales
A5: Cadenas de valor | B5: Ciencias de la Vida: Comprende la prestación de servicios de alta complejidad, con calidad y eficiencia médica, los subsectores incluyen farmaceúticos, cosméticos y aseo, dispositivos médicos, servicios de salud.
B6: Cadenas Globales de valor: XXXXX
B7: Agroalimentos: XXXXX
A9: % financiación | B9: 0.3 | C9: =+B12*B9 -> 105000000
B10: 0.3 | C10: =+B10*C9 -> 31500000
A12: Maxima Financiación del proyecto | B12: 350000000
